BEGIN:VCALENDAR
VERSION:2.0
PRODID:-//Dartmouth Class of 1968 WP - ECPv6.15.20//NONSGML v1.0//EN
CALSCALE:GREGORIAN
METHOD:PUBLISH
X-WR-CALNAME:Dartmouth Class of 1968 WP
X-ORIGINAL-URL:https://d68wp.dartmouth68.org
X-WR-CALDESC:Events for Dartmouth Class of 1968 WP
REFRESH-INTERVAL;VALUE=DURATION:PT1H
X-Robots-Tag:noindex
X-PUBLISHED-TTL:PT1H
BEGIN:VTIMEZONE
TZID:America/New_York
BEGIN:DAYLIGHT
TZOFFSETFROM:-0500
TZOFFSETTO:-0400
TZNAME:EDT
DTSTART:20240310T070000
END:DAYLIGHT
BEGIN:STANDARD
TZOFFSETFROM:-0400
TZOFFSETTO:-0500
TZNAME:EST
DTSTART:20241103T060000
END:STANDARD
BEGIN:DAYLIGHT
TZOFFSETFROM:-0500
TZOFFSETTO:-0400
TZNAME:EDT
DTSTART:20250309T070000
END:DAYLIGHT
BEGIN:STANDARD
TZOFFSETFROM:-0400
TZOFFSETTO:-0500
TZNAME:EST
DTSTART:20251102T060000
END:STANDARD
BEGIN:DAYLIGHT
TZOFFSETFROM:-0500
TZOFFSETTO:-0400
TZNAME:EDT
DTSTART:20260308T070000
END:DAYLIGHT
BEGIN:STANDARD
TZOFFSETFROM:-0400
TZOFFSETTO:-0500
TZNAME:EST
DTSTART:20261101T060000
END:STANDARD
END:VTIMEZONE
BEGIN:VEVENT
DTSTART;TZID=America/New_York:20250503T110000
DTEND;TZID=America/New_York:20250503T120000
DTSTAMP:20260421T130130
CREATED:20250419T010957Z
LAST-MODIFIED:20250419T014627Z
UID:10000013-1746270000-1746273600@d68wp.dartmouth68.org
SUMMARY:Arts Legacy Committee meeting
DESCRIPTION:Arts Legacy Committee Meeting \n\n11:00 AM (Zoom): tentative\nAgenda\, minutes and zoom link to be sent by email and posted on the Class website.
URL:https://d68wp.dartmouth68.org/event/arts-legacy-committee-meeting-3/
LOCATION:Zoom
CATEGORIES:Class Meeting
ATTACH;FMTTYPE=image/png:https://d68wp.dartmouth68.org/wp-content/uploads/Angel-Occultation.png
END:VEVENT
BEGIN:VEVENT
DTSTART;VALUE=DATE:20250516
DTEND;VALUE=DATE:20250518
DTSTAMP:20260421T130130
CREATED:20250419T004059Z
LAST-MODIFIED:20250508T162919Z
UID:10000011-1747353600-1747526399@d68wp.dartmouth68.org
SUMMARY:Mini Reunion Green Key 2025
DESCRIPTION:May 2025 Green Key Weekend – Mini Reunion and Class Committee Meeting in Hanover \n\n11:00 AM (& Zoom): The day will begin with a Class Committee meeting in the Blunt Alumni Center\, Zimmerman Lounge and Conference Room. The Second Annual Project Green Light Award winner\, Helen Cui\, ’27 is joining us. When available\, the agenda\, minutes of the prior meeting and Zoom link will be posted on the Class Committee minutes and agenda page.\n12:30 PM to 2:00 PM: private showing at the Hood Museum of the just acquired painting\, Angel 2024\, by Osamu Kobayashi. Angel will be shown along with Occultation\, acquired by the Arts Legacy Committee for last year’s 25th anniversary celebration of the Asian American and Pacific Ilanders organization at Dartmouth.\n6:00 PM: Class Dinner at the DOC House\, catered by Bloods. We need enough numbers for this venue\, so please\, by May 10\, let John Engelman know you plan to attend and how many will be in your party. Either email John or call him at (603) 643-3689.\nAs of mid-April there are plenty of hotel rooms in the Hanover/White River area.
URL:https://d68wp.dartmouth68.org/event/mini-reunion-green-key-2025/
LOCATION:Dartmouth College\, Hanover\, NH
CATEGORIES:Class Dinner,Class Meeting,Mini Reunion
ATTACH;FMTTYPE=image/jpeg:https://d68wp.dartmouth68.org/wp-content/uploads/201505-Green-Key.jpg
END:VEVENT
BEGIN:VEVENT
DTSTART;VALUE=DATE:20251010
DTEND;VALUE=DATE:20251012
DTSTAMP:20260421T130130
CREATED:20250419T010458Z
LAST-MODIFIED:20251006T163906Z
UID:10000012-1760054400-1760227199@d68wp.dartmouth68.org
SUMMARY:Fall Mini Reunion\, Homecoming Hanover
DESCRIPTION:October 2025 Mini Reunion and Class Committee Meeting \n\n7:00 PM\, Friday: Dartmouth Night Parade\, Ceremonies and Bonfire on the Green. The Class of 1969 is also having a mini reunion this weekend (see their schedule).\nSaturday\, October 11\n\n10:00 AM (& Zoom): Class Committee meeting. Winship Conference Room\, 2nd floor Blunt. Agenda\, minutes of prior meeting and Zoom link to be published on the Class website.\n11:30 AM or conclusion of class meeting to 1:00 PM: Pregame tailgate/lunch Alpha Delta – AD front lawn\, 9 East Wheelock Street. Plenty of food but limited beverages. If you’d rather have something other than beer or cider\, bring your own.\n1:30 PM: Dartmouth vs. Yale football. Buddy Teevens Stadium at Memorial Field. Buy your tickets in advance. Email Dartmouth Athletics (603-646-2466). or visit the Dartmouth Athletics website.\n6:00 PM: class dinner and Give A Rouse (GAR) Awards ceremony at the Hilton Garden Inn\, Lebanon\, NH. Approximately 40 people have signed up. Don’t miss this opportunity to support this year’s GAR award recipients! Please let John Engelman know you plan to attend no later than October 6.\n\nCash Bar (6:00 to 7:00 pm).\nGAR awards presentation starts at 6:30 pm.\nA Taste of Italy dinner ($50 per person). Dinner will be served at 7:00 or after the GAR awards presentation has concluded.\n\nPay at the door (checks only payable to Dartmouth Class of 1968) or\nmail a check to class treasurer\, Jim Lawrie (summer only address)\, again\, payable to Dartmouth Class of 1968\n\nPO Box 555\nSanbornville\, NH 03872\n\n\n\n\n\n\nReserve a room early! This is always a very busy weekend. We could not reserve a block of rooms at the Hilton Garden Inn\, but there are individual rooms available on a first come\, first served basis. Contact the HGI at 603-448-3300 to make a reservation.\n\n\n\nPlease let John Engelman know if you will be attending and how many will be in your party\, no later than Oct. 2nd. Email him at John Engelman.
URL:https://d68wp.dartmouth68.org/event/fall-mini-reunion-homecoming-hanover/
LOCATION:Dartmouth College\, Hanover\, NH
CATEGORIES:Class Dinner,Class Meeting,Dartmouth Sponsored,GAR Awards Ceremony,Mini Reunion
ATTACH;FMTTYPE=image/jpeg:https://d68wp.dartmouth68.org/wp-content/uploads/Buddy_Teevens_Harv15_JR-2_cropped.jpg
END:VEVENT
END:VCALENDAR