BEGIN:VCALENDAR
VERSION:2.0
PRODID:-//Dartmouth Class of 1968 WP - ECPv6.15.20//NONSGML v1.0//EN
CALSCALE:GREGORIAN
METHOD:PUBLISH
X-ORIGINAL-URL:https://d68wp.dartmouth68.org
X-WR-CALDESC:Events for Dartmouth Class of 1968 WP
REFRESH-INTERVAL;VALUE=DURATION:PT1H
X-Robots-Tag:noindex
X-PUBLISHED-TTL:PT1H
BEGIN:VTIMEZONE
TZID:America/New_York
BEGIN:DAYLIGHT
TZOFFSETFROM:-0500
TZOFFSETTO:-0400
TZNAME:EDT
DTSTART:20250309T070000
END:DAYLIGHT
BEGIN:STANDARD
TZOFFSETFROM:-0400
TZOFFSETTO:-0500
TZNAME:EST
DTSTART:20251102T060000
END:STANDARD
BEGIN:DAYLIGHT
TZOFFSETFROM:-0500
TZOFFSETTO:-0400
TZNAME:EDT
DTSTART:20260308T070000
END:DAYLIGHT
BEGIN:STANDARD
TZOFFSETFROM:-0400
TZOFFSETTO:-0500
TZNAME:EST
DTSTART:20261101T060000
END:STANDARD
BEGIN:DAYLIGHT
TZOFFSETFROM:-0500
TZOFFSETTO:-0400
TZNAME:EDT
DTSTART:20270314T070000
END:DAYLIGHT
BEGIN:STANDARD
TZOFFSETFROM:-0400
TZOFFSETTO:-0500
TZNAME:EST
DTSTART:20271107T060000
END:STANDARD
END:VTIMEZONE
BEGIN:VEVENT
DTSTART;VALUE=DATE:20260515
DTEND;VALUE=DATE:20260517
DTSTAMP:20260421T082501
CREATED:20260419T211743Z
LAST-MODIFIED:20260419T212415Z
UID:10000014-1778803200-1778975999@d68wp.dartmouth68.org
SUMMARY:Spring 2026 Mini Reunion\, Green Key Hanover (click here for more information)
DESCRIPTION:Join us on campus for Green Key Weekend\, May 15-16\, 2026 \nAs this winter’s record cold and snowfall finally loosen their grip on New England\, remember how magical springs are in Hanover? Join us this May. It’s Green Key Weekend\, so there’s a lot happening! Book a hotel room now! \nPlans are still being finalized\, but on Saturday\, May 16\, we will: \n\nSaturday\, May 16\n\n11:00 AM (& Zoom): Class Committee meeting. Zimmerman Lounge\, Blunt Alumni Center. Agenda\, minutes of prior meeting and Zoom link to be published on the Class website.\n\nMeet Project Green Light recipient in Creative Writing\, Lauren Mills.\n\n\nAfter the meeting: Tour the Jewelry Studio in the renovated Hopkins Center to see the brand-new laser welder\, our class gift.\n6:00 PM: class dinner at the DOC House or Rocky\, $50-60 per person.  Please contact John Engelman (phone 603-643-3689) no later than May 10 if you plan to attend.\nReserve a room early!\n\n\n\n(There will be an update as details become finalized.) \nLooking forward to seeing you guys! Can you believe\, this is the year we all turn 80?
URL:https://d68wp.dartmouth68.org/event/spring-2026-mini-reunion-green-key-hanover/
LOCATION:Dartmouth College\, Hanover\, NH
CATEGORIES:Class Dinner,Class Meeting,Mini Reunion
ATTACH;FMTTYPE=image/jpeg:https://d68wp.dartmouth68.org/wp-content/uploads/Spring-Flowers-in-Hanover.jpg
END:VEVENT
END:VCALENDAR